BEGIN:VCALENDAR
VERSION:2.0
PRODID:-//Tukios.com/
BEGIN:VEVENT
UID:4e3cc28a-042e-4b69-801e-be136c83c2c1@www.adamsfosterrayfh.com
DTSTAMP:20260420T203200Z
DTSTART:20260420T233000Z
DTEND:20260421T000000Z
SUMMARY:Rosary
DESCRIPTION:
URL:https://www.adamsfosterrayfh.com/obituaries/anita-carrillo
LOCATION: 505 NW 5th St  Hamlin TX 79520
GEO:32.8883067;-100.1343035
END:VEVENT
END:VCALENDAR