BEGIN:VCALENDAR
VERSION:2.0
PRODID:-//Tukios.com/
BEGIN:VEVENT
UID:1e7b2447-3721-4fff-9fd0-24565a9e97d5@www.adamsfosterrayfh.com
DTSTAMP:20260420T202816Z
DTSTART:20260421T160000Z
DTEND:20260421T170000Z
SUMMARY:Mass
DESCRIPTION:
URL:https://www.adamsfosterrayfh.com/obituaries/anita-carrillo
LOCATION: 1250 N Central Ave  Hamlin TX 79520
GEO:32.895803;-100.1303799
END:VEVENT
END:VCALENDAR